BEGIN:VCALENDAR
VERSION:2.0
PRODID:-//Plone.org//NONSGML plone.app.event//EN
X-WR-TIMEZONE:Europe/Berlin
BEGIN:VEVENT
SUMMARY:Dr. Vijayashree CS: From Rituals to Representation
DTSTART;TZID=Europe/Berlin:20241216T181500
DTEND;TZID=Europe/Berlin:20241216T193000
DTSTAMP:20260422T055733Z
UID:35464d8ebd8149c4a113d47181ebb31d@www.ioa.uni-bonn.de
CATEGORIES:AIK
CREATED:20241211T135548Z
DESCRIPTION:Bhutaradhane is a unique tradition of spirit-worship patronize
 d mainly by the Tulu-speaking Hindu community located along the west coast
  within the southern state of Karnataka in India. Various kinds of spirits
  (Bhutas) worship are practiced in this tradition\, which is characterized
  by inextricable linkages between its rituality\, visuality and materialit
 y. In addition to being consecrated and venerated as sacred objects in Bhu
 ta rituals\, the Bhuta masks and sculptures have made their way into the m
 useum spaces where they are exhibited as artefacts\, valuable remnants and
  emblems of cultural heritage. This talk argue that museums as cultural in
 termediaries are not just repositories of objects but are political instit
 utions that function as sites for construction of historical narratives.
LAST-MODIFIED:20250905T231832Z
URL:https://www.ioa.uni-bonn.de/aik/de/nachrichten/dr-vijayashree-cs-from-
 rituals-to-representation
END:VEVENT
BEGIN:VTIMEZONE
TZID:Europe/Berlin
X-LIC-LOCATION:Europe/Berlin
BEGIN:STANDARD
DTSTART:20241027T020000
TZNAME:CET
TZOFFSETFROM:+0200
TZOFFSETTO:+0100
END:STANDARD
END:VTIMEZONE
END:VCALENDAR
